BEGIN:VCALENDAR
VERSION:2.0
PRODID:-//Global Migration Solutions - ECPv5.1.0//NONSGML v1.0//EN
CALSCALE:GREGORIAN
METHOD:PUBLISH
X-WR-CALNAME:Global Migration Solutions
X-ORIGINAL-URL:https://www.globalmigrationsolutions.com
X-WR-CALDESC:Events for Global Migration Solutions
BEGIN:VTIMEZONE
TZID:UTC
BEGIN:STANDARD
TZOFFSETFROM:+0000
TZOFFSETTO:+0000
TZNAME:UTC
DTSTART:20200101T000000
END:STANDARD
END:VTIMEZONE
BEGIN:VEVENT
DTSTART;TZID=UTC:20200502T163000
DTEND;TZID=UTC:20200502T173000
DTSTAMP:20260422T121550
CREATED:20200420T012241Z
LAST-MODIFIED:20200517T190333Z
UID:2676-1588437000-1588440600@www.globalmigrationsolutions.com
SUMMARY:Webinar: Your Second Residency can now be anywhere in Europe!  The Portugal Golden Visa
DESCRIPTION:Join us to hear insights on the following topics: \n🇵🇹How you work\, live and study in any 26 European countries \n🇵🇹Why Portugal should be your entry point \n🇵🇹What is the Portugal Golden Visa program and your benefits to this \n🇵🇹Real estate investment options to own or invest as low as €280\,000 \n🇵🇹What is the current market condition during COVID-19 \n🇵🇹In-depth legal advise by Portugal Immigration Lawyer \nFeaturing industry experts such as: \n\n\n\n\nDesmond Ang\nManaging Director\nGlobal Migration Solutions\nMara: 1461243\n\n\n\nAntonio Vinal Jr\nPortugal Immigration Lawyer\nAVCO Legal\n\n\n\nJaime Gooi\nManaging Director\n& Investment Consultant\nIntergentium Asia\n\n\n\nJOIN US NOW! \nYou will be provided with the webinar ID number after a full registration below. \n
URL:https://www.globalmigrationsolutions.com/event/webinar-your-second-residency-can-now-be-anywhere-in-europe-the-portugal-golden-visa/
CATEGORIES:Past
END:VEVENT
END:VCALENDAR