BEGIN:VCALENDAR
VERSION:2.0
PRODID:-//Global Migration Solutions - ECPv5.1.0//NONSGML v1.0//EN
CALSCALE:GREGORIAN
METHOD:PUBLISH
X-WR-CALNAME:Global Migration Solutions
X-ORIGINAL-URL:https://www.globalmigrationsolutions.com
X-WR-CALDESC:Events for Global Migration Solutions
BEGIN:VTIMEZONE
TZID:UTC
BEGIN:STANDARD
TZOFFSETFROM:+0000
TZOFFSETTO:+0000
TZNAME:UTC
DTSTART:20200101T000000
END:STANDARD
END:VTIMEZONE
BEGIN:VEVENT
DTSTART;TZID=UTC:20200711T110000
DTEND;TZID=UTC:20200711T120000
DTSTAMP:20260419T122736
CREATED:20200702T004010Z
LAST-MODIFIED:20200713T012641Z
UID:2808-1594465200-1594468800@www.globalmigrationsolutions.com
SUMMARY:Seminar (Webinar) - Obtain Your EU Citizenship: The Portugal Golden Visa
DESCRIPTION:\n\n\n\n\n\n\n\n\n\n\n\nJoin us to hear insights on the following topics: \n\nHow you work\, live and study in any 26 European countries\nWhy Portugal should be your entry point\nWhat is the Portugal Golden Visa program and your benefits to this\nReal estate investment options to own or invest as low as €280\,000\nWhat is the current market condition during COVID-19\nSpecial legal insights by Portugal Immigration Lawyer\n\nFeaturing industry experts such as: \n\n\n\n \nDesmond Ang\nManaging Director\nGlobal Migration Solutions\nMara: 1461243\n \n Jaime Gooi\nManaging Director\n& Investment Consultant\nIntergentium Asia\n\n\n\nJoin us now! \nYou will be provided with the webinar ID number after a full registration below. \n
URL:https://www.globalmigrationsolutions.com/event/seminar-webinar-obtain-your-eu-citizenship-the-portugal-golden-visa/
LOCATION:Wilayah Persekutuan\, Kuala Lumpur\, 50400\, Malaysia
CATEGORIES:Past
END:VEVENT
END:VCALENDAR