BEGIN:VCALENDAR
VERSION:2.0
PRODID:-//Global Migration Solutions - ECPv5.1.0//NONSGML v1.0//EN
CALSCALE:GREGORIAN
METHOD:PUBLISH
X-WR-CALNAME:Global Migration Solutions
X-ORIGINAL-URL:https://www.globalmigrationsolutions.com
X-WR-CALDESC:Events for Global Migration Solutions
BEGIN:VTIMEZONE
TZID:UTC
BEGIN:STANDARD
TZOFFSETFROM:+0000
TZOFFSETTO:+0000
TZNAME:UTC
DTSTART:20200101T000000
END:STANDARD
END:VTIMEZONE
BEGIN:VEVENT
DTSTART;TZID=UTC:20200530T110000
DTEND;TZID=UTC:20200530T120000
DTSTAMP:20260422T124050
CREATED:20200522T000254Z
LAST-MODIFIED:20200531T190923Z
UID:2754-1590836400-1590840000@www.globalmigrationsolutions.com
SUMMARY:Seminar (Webinar): Business Migrants & Immigration Updates by NSW Government
DESCRIPTION: \nJoin us on a special webinar\, specifically designed for our Hong Kong citizens interested to explore Australia’s Business and Investment migration pathway. \nOur expert migration specialist\, Desmond Ang\, Managing Director at Global Migration Solutions will be sharing suitable migration options\, exploring the key benefits and your eligibility\, as well as insights on COVID-19 that is impacting the world economies. Find out how you can strategize your journey with us. \nJoin us on this interactive dialogue to: \n\nExplore current updates and opportunities on Business & Investment migration program\nObtain your PR and Residency in Australia with the right guidance\nUnderstand the impacts on Australia visa holders such as travel ban\nGain assistance for temporary visa holders and business migrants\nDiscover the right Coronavirus SME Guarantee Scheme\n\nHear from our industry experts:  \n\n\n\n\n\n\n\nDesmond Ang\nManaging Director\nGlobal Migration Solutions\nMara: 1461243\nBelinda Chan\nManaging Partner\nCreative Consulting Group\n\n\n\nJoin us now! \nYou will be provided with the webinar ID number after a full registration below. \n
URL:https://www.globalmigrationsolutions.com/event/seminar-webinar-business-migrants-immigration-updates-by-nsw-government/
LOCATION:Wilayah Persekutuan\, Kuala Lumpur\, 50400\, Malaysia
CATEGORIES:Past
END:VEVENT
END:VCALENDAR